BEGIN:VCALENDAR
VERSION:2.0
PRODID:-//ChamberMaster//Event Calendar 2.0//EN
METHOD:PUBLISH
X-PUBLISHED-TTL:P3D
REFRESH-INTERVAL:P3D
CALSCALE:GREGORIAN
BEGIN:VEVENT
DTSTART:20251004T200000Z
DTEND:20251004T213000Z
X-MICROSOFT-CDO-ALLDAYEVENT:FALSE
SUMMARY:Nature Journaling - Cloud Identification!
DESCRIPTION:Join Lorna Burkhard and other cloud lovers in a nature journaling class focused on identifying and drawing clouds of the Carson Valley. All supplies provided.\n\nSuggested donation\, $20.\n\nFor more information: lori.leonard@tnc.org
X-ALT-DESC;FMTTYPE=text/html:Join Lorna Burkhard and other cloud lovers in a nature journaling class focused on identifying and drawing clouds of the Carson Valley. All supplies provided.<br />\nSuggested donation\, $20.<br />\nFor more information: lori.leonard@tnc.org
LOCATION:The Nature Conservancy's River Fork Ranch Preserve 381 Genoa Lane Minden\, NV 89423
UID:e.820.47085
SEQUENCE:3
DTSTAMP:20260423T151259Z
URL:https://business.carsonvalleynv.org/events/details/nature-journaling-cloud-identification-47085
END:VEVENT

END:VCALENDAR
