BEGIN:VCALENDAR
VERSION:2.0
PRODID:-//ChamberMaster//Event Calendar 2.0//EN
METHOD:PUBLISH
X-PUBLISHED-TTL:P3D
REFRESH-INTERVAL:P3D
CALSCALE:GREGORIAN
BEGIN:VEVENT
DTSTART:20151105T013000Z
DTEND:20151105T033000Z
X-MICROSOFT-CDO-ALLDAYEVENT:FALSE
SUMMARY:Minden Town Board Meeting
DESCRIPTION:The Town of Minden holds monthly Board Meetings the first Wednesday of every month. The meetings begin at 5:30 with staff reports and public comment\, followed by the administrative items to be acted upon. The meetings are open to the public\, and comments are encouraged. On occasion\, the Board will hold a special meeting for urgent matters. To receive the meeting minutes by mail or email\, contact us.
X-ALT-DESC;FMTTYPE=text/html:The Town of Minden holds monthly Board Meetings the first Wednesday of every month. The meetings begin at 5:30 with staff reports and public comment\, followed by the administrative items to be acted upon. The meetings are open to the public\, and comments are encouraged. On occasion\, the Board will hold a special meeting for urgent matters. To receive the meeting minutes by mail or email\, contact us.
LOCATION:C.V.I.C. Hall
UID:e.820.13650
SEQUENCE:3
DTSTAMP:20260425T222854Z
URL:https://business.carsonvalleynv.org/events/details/minden-town-board-meeting-11-04-2015-13650
END:VEVENT

END:VCALENDAR
