BEGIN:VCALENDAR
VERSION:2.0
PRODID:-//ChamberMaster//Event Calendar 2.0//EN
METHOD:PUBLISH
X-PUBLISHED-TTL:P3D
REFRESH-INTERVAL:P3D
CALSCALE:GREGORIAN
BEGIN:VEVENT
DTSTART:20251206T010000Z
DTEND:20251206T010000Z
X-MICROSOFT-CDO-ALLDAYEVENT:FALSE
SUMMARY:Minden's Gazebo Lighting Countdown
DESCRIPTION:The Town of Minden invites you to join us for the Gazebo Lighting Countdown.
X-ALT-DESC;FMTTYPE=text/html:The Town of Minden invites you to join us for the Gazebo Lighting Countdown.
LOCATION:Minden Park 1610 Esmeralda Ave Minden\, NV 89423
UID:e.820.46980
SEQUENCE:3
DTSTAMP:20260423T163558Z
URL:https://business.carsonvalleynv.org/events/details/minden-s-gazebo-lighting-countdown-12-05-2025-46980
END:VEVENT

END:VCALENDAR
