BEGIN:VCALENDAR
VERSION:2.0
PRODID:-//ChamberMaster//Event Calendar 2.0//EN
METHOD:PUBLISH
X-PUBLISHED-TTL:P3D
REFRESH-INTERVAL:P3D
CALSCALE:GREGORIAN
BEGIN:VEVENT
DTSTART:20150919T170000Z
DTEND:20150919T210000Z
X-MICROSOFT-CDO-ALLDAYEVENT:FALSE
SUMMARY:Minden Home and Garden Tour
DESCRIPTION:The Douglas County Historical Society is sponsoring a self-guided tour of six homes and gardens of historical interest in Minden on Sept. 19th starting at 10am.
X-ALT-DESC;FMTTYPE=text/html:The Douglas County Historical Society is sponsoring a self-guided tour of six homes and gardens of historical interest in Minden on Sept. 19th starting at 10am.&nbsp\;
LOCATION:
UID:e.820.13659
SEQUENCE:3
DTSTAMP:20260426T020340Z
URL:https://business.carsonvalleynv.org/events/details/minden-home-and-garden-tour-09-19-2015-13659
END:VEVENT

END:VCALENDAR
