BEGIN:VCALENDAR
VERSION:2.0
PRODID:-//ChamberMaster//Event Calendar 2.0//EN
METHOD:PUBLISH
X-PUBLISHED-TTL:P3D
REFRESH-INTERVAL:P3D
CALSCALE:GREGORIAN
BEGIN:VEVENT
DTSTART:20250906T180000Z
DTEND:20250906T220000Z
X-MICROSOFT-CDO-ALLDAYEVENT:FALSE
SUMMARY:Minden Elementary School 30th Birthday Celebration
DESCRIPTION:Minden Elementary is turning 30\, and we're throwing a celebration to remember! For three incredible decades\, our school has been a place of learning\, growth\, and community and now it's time to party! Join us for a fun-filled event featuring delicious eats from local food trucks and live music performed by Jakota Wass. Whether you're a current student\, proud alum\, or community member\, come celebrate the past\, present\, and future of Minden Elementary School with us. Here's to 30 amazing years and many more ahead!
X-ALT-DESC;FMTTYPE=text/html:Minden Elementary is turning 30\, and we&rsquo\;re throwing a celebration to remember! For three incredible decades\, our school has been a place of learning\, growth\, and community&mdash\;and now it&rsquo\;s time to party! Join us for a fun-filled event featuring delicious eats from local food trucks and live music performed by Jakota Wass. Whether you&#39\;re a current student\, proud alum\, or community member\, come celebrate the past\, present\, and future of Minden Elementary School with us. Here&#39\;s to 30 amazing years&mdash\;and many more ahead!
LOCATION:Minden Park 1610 Esmeralda Avenue Minden\, NV 89423
UID:e.820.46974
SEQUENCE:3
DTSTAMP:20260423T121504Z
URL:https://business.carsonvalleynv.org/events/details/minden-elementary-school-30th-birthday-celebration-46974
END:VEVENT

END:VCALENDAR
