BEGIN:VCALENDAR
VERSION:2.0
PRODID:-//ChamberMaster//Event Calendar 2.0//EN
METHOD:PUBLISH
X-PUBLISHED-TTL:P3D
REFRESH-INTERVAL:P3D
CALSCALE:GREGORIAN
BEGIN:VEVENT
DTSTART:20160813T170000Z
DTEND:20160813T190000Z
X-MICROSOFT-CDO-ALLDAYEVENT:FALSE
SUMMARY:Michael E. Fischer to Speak on Baby Face Nelson in Nevada
DESCRIPTION:Michael E. Fischer to Speak on Baby Face Nelson in Nevada\n\nat Dangberg Historic Park\n\nMINDEN\, Nev.  Historian Michael E. Fischer will speak on Baby Face Nelson in Nevada in a free presentation at the Dangberg Home Ranch Historic Park on Saturday\, August 13\, at 10:00 am.\n\nFew people living in Nevada today know that Baby Face Nelson\, whose given name was Lester Gillis\, spent a great deal of time in Nevada. He was avoiding the heat from authorities in the Midwest. In Reno\, he was afforded protection from arrest and incarceration because of his connections to Bill Graham and James McKay. Their political and business connections covered almost the entire state. \n\nA vicious killer and borderline psychopath\, Nelson lived in Nevada during the period when he was the most wanted criminal in America. In this presentation\, Michael E. Fischer explores Nelson's time in the state and explains why such a notorious killer could hide out here in plain sight. It is the story of politics\, corruption\, and crime in 1930s Nevada.\n\nThis presentation is part of the park's Ferris Family Speaker Series\, named in honor of the family of Margaret Ferris-Dangberg\, the wife of ranch founder Heinrich F. Dangberg. The series is sponsored by Soaring NV\, Douglas County\,Bently Enterprises\,Carson Valley Accounting\, Horse Tales Publications\, Carson Valley Times\, Dr. James the Dentist and Associates\, Internovations Website Design\, Joe Benigno's Tree Service\, NV Energy\, Full Circle Compost and the Frances C. and William P. Smallwood Foundation. Alpen Sierra Coffee Company is providing complimentary coffee and 88 Cups & More is providing baked treats for visitors throughout the series. Fischer's presentation is also made possible with the assistance of Nevada Humanities\, an independent affiliate of the National Endowment for the Humanities.\n\nMichael E. Fischer was raised and educated in Reno public schools\, and earned a Bachelor of Science degree at University of Nevada Reno and a Doctor of Dental Surgery degree from the University of Southern California. After working in private practice for 31 years\, he retired from dentistry and was appointed Director of the Nevada Department of Cultural Affairs\, serving in both Governor Gibbons' and Governor Sandoval's Cabinet until the department was formally disbanded. He is now an independent scholar whose interests include the history of Nevada cowboys and ranching\, politics\, bootlegging\, gambling\, and crime. \n\nThe park is located at 1450 Hwy 88m   mile north of the Carson Valley Veterinary Hospital. This is an outdoor event\, and visitors should bring their own seating. Dogs are not permitted at this event. For more information\, visit dangberghomeranch.org.
X-ALT-DESC;FMTTYPE=text/html:<p align="CENTER" dir="LTR"><span lang="EN">Michael E. Fischer to Speak on Baby Face Nelson in Nevada</span></p>\n\n<p align="CENTER" dir="LTR"><span lang="EN">at Dangberg Historic Park</span></p>\n\n<p align="LEFT" dir="LTR"><font face="Calibri" size="3"><font face="Calibri" size="3">MINDEN\, Nev.&mdash\; Historian Michael E. Fischer will speak on Baby Face Nelson in Nevada in a free presentation at the Dangberg Home Ranch Historic Park on Saturday\, August 13\, at 10:00 am.</font></font></p>\n\n<p align="LEFT" dir="LTR"><font face="Calibri" size="3"><font face="Calibri" size="3">Few people living in Nevada today know that Baby Face Nelson\, whose given name was Lester Gillis\, spent a great deal of time in Nevada. He was avoiding the heat from authorities in the Midwest. In Reno\, he was afforded protection from arrest and incarceration because of his connections to Bill Graham and James McKay. Their political and business connections covered almost the entire state. </font></font></p>\n\n<p align="LEFT" dir="LTR"><font face="Calibri" size="3"><font face="Calibri" size="3">A vicious killer and borderline psychopath\, Nelson lived in Nevada during the period when he was the most wanted criminal in America. In this presentation\, Michael E. Fischer explores Nelson&rsquo\;s time in the state and explains why such a notorious killer could hide out here in plain sight. It is the story of politics\, corruption\, and crime in 1930s Nevada.</font></font></p>\n\n<p align="LEFT" dir="LTR"><font face="Calibri" size="3"><font face="Calibri" size="3">This presentation is part of the park&#39\;s Ferris Family Speaker Series\, named in honor of the family of Margaret Ferris-Dangberg\, the wife of ranch founder Heinrich F. Dangberg. The series is sponsored by </font></font><a href="https://www.facebook.com/soaringnv/"><font face="Calibri" size="3"><font color="#0066cc" face="Calibri" size="3"><span lang="EN">Soaring NV</span></font></font></a><font face="Calibri" size="3"><font face="Calibri" size="3"><span lang="EN">\, Douglas County\,</span></font></font><a href="https://www.facebook.com/bentlyenterprises/"><font face="Calibri" size="3"><font color="#0066cc" face="Calibri" size="3"><span lang="EN">Bently Enterprises</span></font></font></a><font face="Calibri" size="3"><font face="Calibri" size="3"><span lang="EN">\,</span></font></font><a href="https://www.facebook.com/Carson-Valley-Accounting-632805416751476/"><font face="Calibri" size="3"><font color="#0066cc" face="Calibri" size="3"><span lang="EN">Carson Valley Accounting</span></font></font></a><font face="Calibri" size="3"><font face="Calibri" size="3"><span lang="EN">\, </span></font></font><a href="https://www.facebook.com/pages/Horse-Tales-Publications/163031573714496"><font face="Calibri" size="3"><font color="#0066cc" face="Calibri" size="3"><span lang="EN">Horse Tales Publications</span></font></font></a><font face="Calibri" size="3"><font face="Calibri" size="3"><span lang="EN">\, </span></font></font><a href="https://www.facebook.com/cvalleytimes/"><font face="Calibri" size="3"><font color="#0066cc" face="Calibri" size="3"><span lang="EN">Carson Valley Times</span></font></font></a><font face="Calibri" size="3"><font face="Calibri" size="3"><span lang="EN">\, </span></font></font><a href="https://www.facebook.com/drjamesthedentist/"><font face="Calibri" size="3"><font color="#0066cc" face="Calibri" size="3"><span lang="EN">Dr. James the Dentist and Associates</span></font></font></a><font face="Calibri" size="3"><font face="Calibri" size="3"><span lang="EN">\, </span></font></font><a href="https://www.facebook.com/Internovations/"><font face="Calibri" size="3"><font color="#0066cc" face="Calibri" size="3"><span lang="EN">Internovations</span></font></font></a><font face="Calibri" size="3"><font face="Calibri" size="3"><span lang="EN"> Website Design\, </span></font></font><a href="https://www.facebook.com/joebenignostreeservice/"><font face="Calibri" size="3"><font color="#0066cc" face="Calibri" size="3"><span lang="EN">Joe Benigno&#39\;s Tree Service</span></font></font></a><font face="Calibri" size="3"><font face="Calibri" size="3"><span lang="EN">\, </span></font></font><a href="https://www.facebook.com/nvenergy/"><font face="Calibri" size="3"><font color="#0066cc" face="Calibri" size="3"><span lang="EN">NV Energy</span></font></font></a><font face="Calibri" size="3"><font face="Calibri" size="3"><span lang="EN">\, </span></font></font><a href="https://www.facebook.com/fullcirclecompost/"><font face="Calibri" size="3"><font color="#0066cc" face="Calibri" size="3"><span lang="EN">Full Circle Compost</span></font></font></a><font face="Calibri" size="3"><font face="Calibri" size="3"><span lang="EN">&nbsp\;and the Frances C. and William P. Smallwood Foundation. Alpen Sierra Coffee Company is providing complimentary coffee and 88 Cups &amp\; More is providing baked treats for visitors throughout the series. Fischer&rsquo\;s presentation is also made possible with the assistance of Nevada Humanities\, an independent affiliate of the National Endowment for the Humanities.</span></font></font></p>\n\n<p align="LEFT" dir="LTR"><font face="Calibri" size="3"><font face="Calibri" size="3">Michael E. Fischer was raised and educated in Reno public schools\, and earned a Bachelor of Science degree at University of Nevada Reno and a Doctor of Dental Surgery degree from the University of Southern California. After working in private practice for 31 years\, he retired from dentistry and was appointed Director of the Nevada Department of Cultural Affairs\, serving in both Governor Gibbons&#39\; and Governor Sandoval&#39\;s Cabinet until the department was formally disbanded. He is now an independent scholar whose interests include the history of Nevada cowboys and ranching\, politics\, bootlegging\, gambling\, and crime. </font></font></p>\n\n<p align="LEFT" dir="LTR"><font face="Calibri" size="3"><font face="Calibri" size="3">The park is located at 1450 Hwy 88m &frac14\; mile north of the Carson Valley Veterinary Hospital. This is an outdoor event\, and visitors should bring their own seating. Dogs are not permitted at this event. For more information\, visit </font></font><a href="http://dangberghomeranch.org//t_blank"><font face="Calibri" size="3"><font color="#0066cc" face="Calibri" size="3"><span lang="EN">dangberghomeranch.org</span></font></font></a><font color="#4e5665" size="3"><font color="#4e5665" size="3"><span lang="EN">.</span></font></font><font face="Calibri" size="3"><font face="Calibri" size="3"> </font></font></p>\n
LOCATION:
UID:e.820.20636
SEQUENCE:3
DTSTAMP:20260423T170534Z
URL:https://business.carsonvalleynv.org/events/details/michael-e-fischer-to-speak-on-baby-face-nelson-in-nevada-08-13-2016-20636
END:VEVENT

END:VCALENDAR
