BEGIN:VCALENDAR
VERSION:2.0
PRODID:-//ChamberMaster//Event Calendar 2.0//EN
METHOD:PUBLISH
X-PUBLISHED-TTL:P3D
REFRESH-INTERVAL:P3D
CALSCALE:GREGORIAN
BEGIN:VEVENT
DTSTART:20151114T020000Z
DTEND:20151114T060000Z
X-MICROSOFT-CDO-ALLDAYEVENT:FALSE
SUMMARY:Martha Redbone in Concert at CVIC Hall
DESCRIPTION:The Carson Valley Arts Council will present the Martha Redbone Roots Project in concert at CVIC Hall\, in Minden\, on Friday\, November 13\, 2015. Join us for an evening of unique blend of Native American vibes with R&B grooves\, blues and a dash of Appalachian folk. For information or to purchase tickets\, visit www.cvartscouncil.com or call 775-782-8207. For a sample of Martha?s music visit www.martharedboneroots.com
X-ALT-DESC;FMTTYPE=text/html:The Carson Valley Arts Council will present the Martha Redbone Roots Project in concert at CVIC Hall\, in Minden\, on Friday\, November 13\, 2015. Join us for an evening of unique blend of Native American vibes with R&amp\;B grooves\, blues and a dash of Appalachian folk. For information or to purchase tickets\, visit www.cvartscouncil.com or call 775-782-8207. For a sample of Martha?s music visit www.martharedboneroots.com
LOCATION:CVIC Hall\, 1602 Esmeralda\, Minden
UID:e.820.13738
SEQUENCE:3
DTSTAMP:20260425T221131Z
URL:https://business.carsonvalleynv.org/events/details/martha-redbone-in-concert-at-cvic-hall-11-13-2015-13738
END:VEVENT

END:VCALENDAR
