BEGIN:VCALENDAR
VERSION:2.0
PRODID:-//ChamberMaster//Event Calendar 2.0//EN
METHOD:PUBLISH
X-PUBLISHED-TTL:P3D
REFRESH-INTERVAL:P3D
CALSCALE:GREGORIAN
BEGIN:VEVENT
DTSTART:20251126T030000Z
DTEND:20251126T030000Z
X-MICROSOFT-CDO-ALLDAYEVENT:FALSE
SUMMARY:Mannheim Steamroller
DESCRIPTION:The holiday tradition continues! MANNHEIM STEAMROLLER CHRISTMAS by Chip Davis has been America's favorite holiday tradition for 40 years! Grammy Award winner Chip Davis has created a show that features Mannheim Steamroller Christmas classics in the distinctive Mannheim sound. The program includes 15 musicians playing more than 20 instruments against a backdrop of dazzling multimedia effects   capturing the spirit of the season in an immersive yet intimate setting.
X-ALT-DESC;FMTTYPE=text/html:The holiday tradition continues! MANNHEIM STEAMROLLER CHRISTMAS by Chip Davis has been America&rsquo\;s favorite holiday tradition for 40 years! Grammy Award winner Chip Davis has created a show that features Mannheim Steamroller Christmas classics in the distinctive Mannheim sound. The program includes 15 musicians playing more than 20 instruments against a backdrop of dazzling multimedia effects &ndash\; capturing the spirit of the season in an immersive yet intimate setting.
LOCATION:Tahoe Blue Event Center 75 U.S. 50 Stateline\, Nevada 89449
UID:e.820.46991
SEQUENCE:3
DTSTAMP:20260423T163245Z
URL:https://business.carsonvalleynv.org/events/details/mannheim-steamroller-46991
END:VEVENT

END:VCALENDAR
