BEGIN:VCALENDAR
VERSION:2.0
PRODID:-//ChamberMaster//Event Calendar 2.0//EN
METHOD:PUBLISH
X-PUBLISHED-TTL:P3D
REFRESH-INTERVAL:P3D
CALSCALE:GREGORIAN
BEGIN:VEVENT
DTSTART:20251213T170000Z
DTEND:20251213T230000Z
X-MICROSOFT-CDO-ALLDAYEVENT:FALSE
SUMMARY:Last Minute Maker’s Market 2025
DESCRIPTION:Looking for that perfect last minute Christmas gift? Come shop from one-of-a-kind craft vendors at this free event and enjoy a drink or two while you shop! Featuring local makers and vendors\, plus food trucks and holiday drinks\, all in the beautifully restored Minden Mercantile building! The market will take place on December 13th from 9:00am-3:00pm. For more information\, check out the CV Flyte website or check their page on Facebook.
X-ALT-DESC;FMTTYPE=text/html:Looking for that perfect last minute Christmas gift? Come shop from one-of-a-kind craft vendors at this free event and enjoy a drink or two while you shop! Featuring local makers and vendors\, plus food trucks and holiday drinks\, all in the beautifully restored Minden Mercantile building! The market will take place on December 13th from 9:00am-3:00pm. For more information\, check out the CV Flyte website or check their page on Facebook.
LOCATION:Minden Mercantile Company 1600 Esmeralda Ave\, Minden\, NV 89423
UID:e.820.46801
SEQUENCE:3
DTSTAMP:20260423T163639Z
URL:https://business.carsonvalleynv.org/events/details/last-minute-maker-s-market-2025-46801
END:VEVENT

END:VCALENDAR
