BEGIN:VCALENDAR
VERSION:2.0
PRODID:-//ChamberMaster//Event Calendar 2.0//EN
METHOD:PUBLISH
X-PUBLISHED-TTL:P3D
REFRESH-INTERVAL:P3D
CALSCALE:GREGORIAN
BEGIN:VEVENT
DTSTART:20251218T030000Z
DTEND:20251221T030000Z
X-MICROSOFT-CDO-ALLDAYEVENT:FALSE
SUMMARY:Knight Monsters vs. Wichita Thunder
DESCRIPTION:Knight Monsters vs. Wichita Thunder Regular Season Home Game's #13\, #14 & #15
X-ALT-DESC;FMTTYPE=text/html:Knight Monsters vs. Wichita Thunder Regular Season Home Game&#39\;s #13\, #14 &amp\; #15
LOCATION:Tahoe Blue Event Center 75 U.S. 50 Stateline\, Nevada 89449
UID:e.820.46995
SEQUENCE:3
DTSTAMP:20260423T163518Z
URL:https://business.carsonvalleynv.org/events/details/knight-monsters-vs-wichita-thunder-46995
END:VEVENT

END:VCALENDAR
