BEGIN:VCALENDAR
VERSION:2.0
PRODID:-//ChamberMaster//Event Calendar 2.0//EN
METHOD:PUBLISH
X-PUBLISHED-TTL:P3D
REFRESH-INTERVAL:P3D
CALSCALE:GREGORIAN
BEGIN:VEVENT
DTSTART:20251129T030000Z
DTEND:20251130T230000Z
X-MICROSOFT-CDO-ALLDAYEVENT:FALSE
SUMMARY:Knight Monsters vs. Tulsa Oilers
DESCRIPTION:Knights Monsters vs. Tulsa Oilers Regular Season Home Game's #7\, #8 & #9
X-ALT-DESC;FMTTYPE=text/html:Knights Monsters vs. Tulsa Oilers Regular Season Home Game&#39\;s #7\, #8 &amp\; #9
LOCATION:Tahoe Blue Event Center 75 U.S. 50 Stateline\, Nevada 89449
UID:e.820.46992
SEQUENCE:3
DTSTAMP:20260423T152436Z
URL:https://business.carsonvalleynv.org/events/details/knight-monsters-vs-tulsa-oilers-46992
END:VEVENT

END:VCALENDAR
