BEGIN:VCALENDAR
VERSION:2.0
PRODID:-//ChamberMaster//Event Calendar 2.0//EN
METHOD:PUBLISH
X-PUBLISHED-TTL:P3D
REFRESH-INTERVAL:P3D
CALSCALE:GREGORIAN
BEGIN:VEVENT
DTSTART:20251204T030000Z
DTEND:20251207T030000Z
X-MICROSOFT-CDO-ALLDAYEVENT:FALSE
SUMMARY:Knight Monsters vs. Rapid City Rush
DESCRIPTION:Knight Monsters vs. Rapid City Rush Regular Season Home Game's #10\, #11 & #12
X-ALT-DESC;FMTTYPE=text/html:Knight Monsters vs. Rapid City Rush Regular Season Home Game&#39\;s #10\, #11 &amp\; #12
LOCATION:Tahoe Blue Event Center 75 U.S. 50 Stateline\, Nevada 89449
UID:e.820.46993
SEQUENCE:3
DTSTAMP:20260423T163518Z
URL:https://business.carsonvalleynv.org/events/details/knight-monsters-vs-rapid-city-rush-46993
END:VEVENT

END:VCALENDAR
