BEGIN:VCALENDAR
VERSION:2.0
PRODID:-//ChamberMaster//Event Calendar 2.0//EN
METHOD:PUBLISH
X-PUBLISHED-TTL:P3D
REFRESH-INTERVAL:P3D
CALSCALE:GREGORIAN
BEGIN:VEVENT
DTSTART:20251018T020000Z
DTEND:20251018T020000Z
X-MICROSOFT-CDO-ALLDAYEVENT:FALSE
SUMMARY:Knight Monsters vs. Idaho Steelheads
DESCRIPTION:Opening Knight for the Tahoe Knight Monsters Idaho Steelheads @ Tahoe Knight Monsters
X-ALT-DESC;FMTTYPE=text/html:Opening Knight for the Tahoe Knight Monsters Idaho Steelheads @ Tahoe Knight Monsters
LOCATION:Tahoe Blue Event Center 75 Hwy 50 Stateline\, NV 89449
UID:e.820.46988
SEQUENCE:3
DTSTAMP:20260423T135240Z
URL:https://business.carsonvalleynv.org/events/details/knight-monsters-vs-idaho-steelheads-46988
END:VEVENT

END:VCALENDAR
