BEGIN:VCALENDAR
VERSION:2.0
PRODID:-//ChamberMaster//Event Calendar 2.0//EN
METHOD:PUBLISH
X-PUBLISHED-TTL:P3D
REFRESH-INTERVAL:P3D
CALSCALE:GREGORIAN
BEGIN:VEVENT
DTSTART:20160319T220000Z
DTEND:20160320T040000Z
X-MICROSOFT-CDO-ALLDAYEVENT:FALSE
SUMMARY:Kiwanis Club of Carson Valley "Ham Bingo"
DESCRIPTION:t's almost time again to empty your piggy bank! The Kiwanis Club of Carson Valley will be hosting its annual Ham Bingo on Saturday\, March 19\, 2016 at the C.V.I.C. Hall in Minden. There will be two sessions\, the first is at 3 pm\, the second is 6 pm.\n\n\n\nBingo cards are 3 games for a $1.00 and there is no limit to the number of cards an individual may play. Games will last until all hams are given away and an exciting grand prize is awarded for each session. Tickets will be for sale at all sessions for raffle prizes. Free popcorn and coffee will be available\; hot dogs\, chips\, water and soft drinks available for purchase.\n\n\n\nMembers of the Kiwanis Club of Carson Valley provide the hams and the grand prizes. Raffle prizes are donated by community businesses. Proceeds from the event will be used to support organizations that focus on the children in Carson Valley. For further information\, including how to become a member of Kiwanis\, call Dan Hamer 775-339-8882.
X-ALT-DESC;FMTTYPE=text/html:<span style="color: rgb(20\, 24\, 35)\; font-family: helvetica\,arial\,sans-serif\; font-size: 14px\; background-color: rgb(255\, 255\, 255)\;">t&rsquo\;s almost time again to empty your piggy bank! The Kiwanis Club of Carson Valley will be hosting its annual Ham Bingo on Saturday\, March 19\, 2016 at the C.V.I.C. Hall in Minden. There will be two sessions\, the first is at 3 pm\, the second is 6 pm.</span><br />\n<br />\n<span style="color: rgb(20\, 24\, 35)\; font-family: helvetica\,arial\,sans-serif\; font-size: 14px\; background-color: rgb(255\, 255\, 255)\;">Bingo cards are 3 games for a $1.00 and there is no limit to the number of cards an individual may play. Games will last until all hams are given away and an exciting grand prize is awarded for each session. Tickets will be for sale at all sessions for raffle prizes. Free popcorn and coffee will be available\; hot dogs\, chips\, water and soft drinks available for purchase.</span><br />\n<br />\n<span style="color: rgb(20\, 24\, 35)\; font-family: helvetica\,arial\,sans-serif\; font-size: 14px\; background-color: rgb(255\, 255\, 255)\;">Members of the Kiwanis Club of Carson Valley provide the hams and the grand prizes. Raffle prizes are donated by community businesses. Proceeds from the event will be used to support organizations that focus on the children in Carson Valley. For further information\, including how to become a member of Kiwanis\, call Dan Hamer 775-339-8882.</span>
LOCATION:C.V.I.C. Hall 1602 Esmeralda Ave. Minden\, Nv
UID:e.820.17511
SEQUENCE:3
DTSTAMP:20260425T154930Z
URL:https://business.carsonvalleynv.org/events/details/kiwanis-club-of-carson-valley-ham-bingo-03-19-2016-17511
END:VEVENT

END:VCALENDAR
