BEGIN:VCALENDAR
VERSION:2.0
PRODID:-//ChamberMaster//Event Calendar 2.0//EN
METHOD:PUBLISH
X-PUBLISHED-TTL:P3D
REFRESH-INTERVAL:P3D
CALSCALE:GREGORIAN
BEGIN:VEVENT
DTSTART;VALUE=DATE:20161001
DTEND;VALUE=DATE:20161002
TRANSP:TRANSPARENT
X-MICROSOFT-CDO-ALLDAYEVENT:TRUE
SUMMARY:Irene Taylor Art Exhibit at Copeland Gallery
DESCRIPTION:Carson Valley Arts Council (CVAC) proudly presents local artist Irene Taylor who will be displaying her oil and ink paintings at the Copeland Gallery in Minden from September 7 through November 4. The exhibit can be viewed Monday through Saturday 10am to 5pm. Irene's paintings will be available for purchase. CVAC will be hosting an artist's reception on Friday\, September 9 from 5 pm to 7 pm. Refreshments will be served and it is free to the public. Come and meet Irene Taylor previewing her amazing work.
X-ALT-DESC;FMTTYPE=text/html:Carson Valley Arts Council (CVAC) proudly presents local artist Irene Taylor who will be displaying her oil and ink paintings at the Copeland Gallery in Minden from September 7 through November 4. The exhibit can be viewed Monday through Saturday 10am to 5pm. Irene&rsquo\;s paintings will be available for purchase. CVAC will be hosting an artist&rsquo\;s reception on Friday\, September 9 from 5 pm to 7 pm. Refreshments will be served and it is free to the public. Come and meet Irene Taylor previewing her amazing work.
LOCATION:Copeland Gallery 1572 US Hwy 395 Minden\, NV
UID:e.820.21008
SEQUENCE:3
DTSTAMP:20260423T140018Z
URL:https://business.carsonvalleynv.org/events/details/irene-taylor-art-exhibit-at-copeland-gallery-21008
END:VEVENT

END:VCALENDAR
