BEGIN:VCALENDAR
VERSION:2.0
PRODID:-//ChamberMaster//Event Calendar 2.0//EN
METHOD:PUBLISH
X-PUBLISHED-TTL:P3D
REFRESH-INTERVAL:P3D
CALSCALE:GREGORIAN
BEGIN:VEVENT
DTSTART:20131109T190000Z
DTEND:20131110T000000Z
X-MICROSOFT-CDO-ALLDAYEVENT:FALSE
SUMMARY:Holiday Shopping Bazaar
DESCRIPTION:3rd Annual Fundraising Event\n\n	Holiday Shopping Bazzar\n\n	\n\n	Over 40 Vendors Under One Roof\n\n	Silent Auction\n\n	Raffle Prizes\n\n	Entertainment\n\n	Refreshements\n\n	FREE Admission
X-ALT-DESC;FMTTYPE=text/html:<div style="text-align: center\;">\n	<span style="color: rgb(255\, 0\, 0)\;"><span style="font-family: times new roman\;"><span style="font-size: 18px\;">3rd Annual Fundraising Event<br />\n	Holiday Shopping Bazzar</span></span></span><br />\n	<br />\n	<span style="color: rgb(0\, 128\, 0)\;"><span style="font-family: times new roman\;"><span style="font-size: 18px\;">Over 40 Vendors Under One Roof<br />\n	Silent Auction<br />\n	Raffle Prizes<br />\n	Entertainment<br />\n	Refreshements<br />\n	FREE Admission</span></span></span></div>\n
LOCATION:Saint Gall Church 1343 Centerville Lane Gardnerville
UID:e.820.7705
SEQUENCE:3
DTSTAMP:20260422T084317Z
URL:https://business.carsonvalleynv.org/events/details/holiday-shopping-bazaar-11-09-2013-7705
END:VEVENT

END:VCALENDAR
