BEGIN:VCALENDAR
VERSION:2.0
PRODID:-//ChamberMaster//Event Calendar 2.0//EN
METHOD:PUBLISH
X-PUBLISHED-TTL:P3D
REFRESH-INTERVAL:P3D
CALSCALE:GREGORIAN
BEGIN:VEVENT
DTSTART:20251206T180000Z
DTEND:20251208T000000Z
X-MICROSOFT-CDO-ALLDAYEVENT:FALSE
SUMMARY:Holiday Kick-off Pop-up at Eddy Street Vintage Market
DESCRIPTION:It's the best way to kick off the holiday season! Join us for two days of shopping! Eddy Street will be packed with the perfect gifts for everyone on your list. On Saturday\, after you are done shopping with us\, join us around 5pm for the Light Parade. The route goes right in front of the shop so it's the perfect place to watch. After all the festivities on Saturday\, come back for more holiday shopping with us on Sunday!
X-ALT-DESC;FMTTYPE=text/html:It&#39\;s the best way to kick off the holiday season! Join us for two days of shopping! Eddy Street will be packed with the perfect gifts for everyone on your list. On Saturday\, after you are done shopping with us\, join us around 5pm for the Light Parade. The route goes right in front of the shop so it&#39\;s the perfect place to watch. After all the festivities on Saturday\, come back for more holiday shopping with us on Sunday!
LOCATION:Eddy Street Vintage Market 1235 Eddy Street\, Gardnerville\, NV\, 89410
UID:e.820.46110
SEQUENCE:3
DTSTAMP:20260423T182742Z
URL:https://business.carsonvalleynv.org/events/details/holiday-kick-off-pop-up-at-eddy-street-vintage-market-46110
END:VEVENT

END:VCALENDAR
