BEGIN:VCALENDAR
VERSION:2.0
PRODID:-//ChamberMaster//Event Calendar 2.0//EN
METHOD:PUBLISH
X-PUBLISHED-TTL:P3D
REFRESH-INTERVAL:P3D
CALSCALE:GREGORIAN
BEGIN:VEVENT
DTSTART:20251206T180000Z
DTEND:20251206T220000Z
X-MICROSOFT-CDO-ALLDAYEVENT:FALSE
SUMMARY:Holiday Gala at the Museum 2025
DESCRIPTION:he Douglas County Historical Society is excited to present their Holiday Gala\, complete with Family Day games and activities\, a festive Gallery of Trees\, and a display of entries for the Annual Gingerbread House Decorating Contest. Come to the Carson Valley Museum and Cultural Center at 10:00am on Saturday\, December 6th for festivities\, including Santa's Cookie Shop. Enjoy free admission to the museum! Later in the day\, you're welcome to view the Parade of Lights from the museum's front lawn. For more information\, visit the Douglas County Historical Society's website or check out their Facebook page. You can also call 775-782-2555 or email DCHS@HistoricNV.org if you have questions.
X-ALT-DESC;FMTTYPE=text/html:he Douglas County Historical Society is excited to present their Holiday Gala\, complete with Family Day games and activities\, a festive Gallery of Trees\, and a display of entries for the Annual Gingerbread House Decorating Contest. Come to the Carson Valley Museum and Cultural Center at 10:00am on Saturday\, December 6th for festivities\, including Santa&rsquo\;s Cookie Shop. Enjoy free admission to the museum! Later in the day\, you&rsquo\;re welcome to view the Parade of Lights from the museum&rsquo\;s front lawn. For more information\, visit the Douglas County Historical Society&rsquo\;s website or check out their Facebook page. You can also call 775-782-2555 or email DCHS@HistoricNV.org if you have questions.
LOCATION:Carson Valley Museum & Cultural Center 1477 U.S. Hwy. 395 N Gardnerville\, NV 89410
UID:e.820.46800
SEQUENCE:3
DTSTAMP:20260423T163913Z
URL:https://business.carsonvalleynv.org/events/details/holiday-gala-at-the-museum-2025-46800
END:VEVENT

END:VCALENDAR
