BEGIN:VCALENDAR
VERSION:2.0
PRODID:-//ChamberMaster//Event Calendar 2.0//EN
METHOD:PUBLISH
X-PUBLISHED-TTL:P3D
REFRESH-INTERVAL:P3D
CALSCALE:GREGORIAN
BEGIN:VEVENT
DTSTART:20251123T230000Z
DTEND:20251124T010000Z
X-MICROSOFT-CDO-ALLDAYEVENT:FALSE
SUMMARY:Higher Elevation Music's Camerata - CIVIC Hall Minden
DESCRIPTION:Join Higher Elevation Music's Camerata for the closing performance of its Fall 2025 series\, presented in the beautifully restored CVIC Hall in Minden. Experience an evening of intimate chamber music performed by some of the region's finest musicians\, celebrating artistry\, community\, and connection. Your attendance supports Sierra Kids Foundation\, helping provide opportunities for children with developmental needs\, as well as Higher Elevation Music's ongoing mission to bring live classical performance to audiences throughout the Reno Tahoe region. ? Come be part of the music\, the mission\, and the magic of live performance.
X-ALT-DESC;FMTTYPE=text/html:Join Higher Elevation Music&rsquo\;s Camerata for the closing performance of its Fall 2025 series\, presented in the beautifully restored CVIC Hall in Minden. Experience an evening of intimate chamber music performed by some of the region&rsquo\;s finest musicians\, celebrating artistry\, community\, and connection. Your attendance supports Sierra Kids Foundation\, helping provide opportunities for children with developmental needs\, as well as Higher Elevation Music&rsquo\;s ongoing mission to bring live classical performance to audiences throughout the Reno&ndash\;Tahoe region. ? Come be part of the music\, the mission\, and the magic of live performance.
LOCATION:Where: CVIC Hall\, Minden\, NV 1604 Esmeralda Ave\, Minden\, NV 89423
UID:e.820.47149
SEQUENCE:3
DTSTAMP:20260423T163559Z
URL:https://business.carsonvalleynv.org/events/details/higher-elevation-music-s-camerata-civic-hall-minden-47149
END:VEVENT

END:VCALENDAR
