BEGIN:VCALENDAR
VERSION:2.0
PRODID:-//ChamberMaster//Event Calendar 2.0//EN
METHOD:PUBLISH
X-PUBLISHED-TTL:P3D
REFRESH-INTERVAL:P3D
CALSCALE:GREGORIAN
BEGIN:VEVENT
DTSTART:20251114T020000Z
DTEND:20251114T050000Z
X-MICROSOFT-CDO-ALLDAYEVENT:FALSE
SUMMARY:Heritage Lecture Series Odd and Bizarre Christmas Traditions
DESCRIPTION:On Thursday\, November 13\, Sandie La Nae will give a presentation on odd & bizarre Christmas traditions. Get into the holiday spirit with a lively and entertaining presentation! Discover some of the world's strangest and most delightful Christmas customs   from quirky decorations to unusual folklore! Doors Open at 6:00pm\; Lecture Begins at 6:30pm. This event will take place at the Carson Valley Museum and Cultural Center. Tickets are $5.00 at the door\, with Alpine\, Dayton\, Smith Valley and Douglas County Historical Society Members Free! For more information visit the DCHS website or call 775-782-2555\, and be sure to check out their Facebook page for other news and updates. The DCHS Heritage Lecture Series is sponsored in part by: Dennis R Little Trust.
X-ALT-DESC;FMTTYPE=text/html:On Thursday\, November 13\, Sandie La Nae will give a presentation on odd &amp\; bizarre Christmas traditions. Get into the holiday spirit with a lively and entertaining presentation! Discover some of the world&rsquo\;s strangest and most delightful Christmas customs &ndash\; from quirky decorations to unusual folklore! Doors Open at 6:00pm\; Lecture Begins at 6:30pm. This event will take place at the Carson Valley Museum and Cultural Center. Tickets are $5.00 at the door\, with Alpine\, Dayton\, Smith Valley and Douglas County Historical Society Members Free! For more information visit the DCHS website or call 775-782-2555\, and be sure to check out their Facebook page for other news and updates. The DCHS Heritage Lecture Series is sponsored in part by: Dennis R Little Trust.
LOCATION:Carson Valley Museum and Cultural Center
UID:e.820.47146
SEQUENCE:3
DTSTAMP:20260423T163748Z
URL:https://business.carsonvalleynv.org/events/details/heritage-lecture-series-odd-and-bizarre-christmas-traditions-47146
END:VEVENT

END:VCALENDAR
