BEGIN:VCALENDAR
VERSION:2.0
PRODID:-//ChamberMaster//Event Calendar 2.0//EN
METHOD:PUBLISH
X-PUBLISHED-TTL:P3D
REFRESH-INTERVAL:P3D
CALSCALE:GREGORIAN
BEGIN:VEVENT
DTSTART:20251031T233000Z
DTEND:20251101T023000Z
X-MICROSOFT-CDO-ALLDAYEVENT:FALSE
SUMMARY:Halloween Party Community Potluck
DESCRIPTION:Each year the Town of Genoa invites all the ghouls and goblins out for some spooky good fun with our Town Potluck and Party at the Genoa Town Hall. Town will provide pizza and soda for the children.
X-ALT-DESC;FMTTYPE=text/html:Each year the Town of Genoa invites all the ghouls and goblins out for some spooky good fun with our Town Potluck and Party at the Genoa Town Hall. Town will provide pizza and soda for the children.
LOCATION:Town Hall
UID:e.820.46952
SEQUENCE:3
DTSTAMP:20260423T135106Z
URL:https://business.carsonvalleynv.org/events/details/halloween-party-community-potluck-46952
END:VEVENT

END:VCALENDAR
