BEGIN:VCALENDAR
VERSION:2.0
PRODID:-//ChamberMaster//Event Calendar 2.0//EN
METHOD:PUBLISH
X-PUBLISHED-TTL:P3D
REFRESH-INTERVAL:P3D
CALSCALE:GREGORIAN
BEGIN:VEVENT
DTSTART:20250903T223000Z
DTEND:20250903T233000Z
X-MICROSOFT-CDO-ALLDAYEVENT:FALSE
SUMMARY:Growth Through Change: Tools for Life’s Changes
DESCRIPTION:Change isn't always easy. This peer-led program offers tangible tools to help navigate challenges that can come with the ups and downs of life's challenges. Meets the 1st and 3rd Wednesday of the month from 3:30 - 4:30 pm at the Douglas County Community and Senior Center in Gardnerville. FREE of charge and open to 18+
X-ALT-DESC;FMTTYPE=text/html:Change isn&#39\;t always easy. This peer-led program offers tangible tools to help navigate challenges that can come with the ups and downs of life&#39\;s challenges. Meets the 1st and 3rd Wednesday of the month from 3:30 - 4:30 pm at the Douglas County Community and Senior Center in Gardnerville. FREE of charge and open to 18+
LOCATION:Douglas County Community and Senior Center 1329 Waterloo Ln\, Gardnerville\, NV 89410
UID:e.820.46363
SEQUENCE:3
DTSTAMP:20260423T120958Z
URL:https://business.carsonvalleynv.org/events/details/growth-through-change-tools-for-life-s-changes-09-03-2025-46363
END:VEVENT

END:VCALENDAR
