BEGIN:VCALENDAR
VERSION:2.0
PRODID:-//ChamberMaster//Event Calendar 2.0//EN
METHOD:PUBLISH
X-PUBLISHED-TTL:P3D
REFRESH-INTERVAL:P3D
CALSCALE:GREGORIAN
BEGIN:VEVENT
DTSTART:20150905T170000Z
DTEND:20150905T190000Z
X-MICROSOFT-CDO-ALLDAYEVENT:FALSE
SUMMARY:Great Basin Basket Makers' Demonstration
DESCRIPTION:Great Basin Basket Makers' hands-on demonstration on the techniques\, materials and tools used in the art of basket weaving to be held on Family Day at the Carson Valley Museum and Cultural Center.
X-ALT-DESC;FMTTYPE=text/html:Great Basin Basket Makers&#39\; hands-on demonstration on the techniques\, materials and tools used in the art of basket weaving to be held on Family Day at the Carson Valley Museum and Cultural Center.
LOCATION:Carson Valley Museum Museum and Cultural Center 1447 US Highway 395 North Gardnerville\, NV 89410
UID:e.820.13657
SEQUENCE:3
DTSTAMP:20260426T014700Z
URL:https://business.carsonvalleynv.org/events/details/great-basin-basket-makers-demonstration-09-05-2015-13657
END:VEVENT

END:VCALENDAR
