BEGIN:VCALENDAR
VERSION:2.0
PRODID:-//ChamberMaster//Event Calendar 2.0//EN
METHOD:PUBLISH
X-PUBLISHED-TTL:P3D
REFRESH-INTERVAL:P3D
CALSCALE:GREGORIAN
BEGIN:VEVENT
DTSTART:20150811T160000Z
DTEND:20150811T190000Z
X-MICROSOFT-CDO-ALLDAYEVENT:FALSE
SUMMARY:Grant Writing Follow Up Session
DESCRIPTION:You're Invited!\n\nAgain\n\nIt's been almost 4 months since David G. Bauer held his grant writing seminar for non-profits in Douglas County.  Do you have questions or need clarification on any aspect of the seminar?   It's time to write them down so you can get the answers you need.  A follow up session for the March 3 participants will be held on August 11\, 2015 from 0900 to 1200 at the Carson Valley Museum and Cultural Center\, 1477 Highway 395 North\, Gardnerville\, NV 89410.\n\nContact: Gary Weidner   gweidner5@aol.com  or cell 1 775 450 1481\n\nSponsored by: The Douglas County Historical Society\,\n\nand the Carson Valley Chamber of Commerce.
X-ALT-DESC;FMTTYPE=text/html:<div style="text-align: center\;"><br />\n<span style="font-family:times new roman\,serif\;"><span style="font-size:48.0pt\;">You&#39\;re Invited!</span></span><br />\n<span style="font-family:times new roman\,serif\;"><span style="font-size:28.0pt\;">Again</span></span><br />\n<span style="font-family:times new roman\,serif\;"><span style="font-size:14.0pt\;">It&rsquo\;s been almost 4 months since David G. Bauer held his grant writing seminar for non-profits in Douglas County. &nbsp\;Do you have questions or need clarification on any aspect of the seminar?&nbsp\;&nbsp\; It&rsquo\;s time to write them down so you can get the answers you need.&nbsp\; A follow up session for the March 3 participants will be held on August 11\, 2015 from 0900 to 1200 at the Carson Valley Museum and Cultural Center\, 1477 Highway 395 North\, Gardnerville\, NV 89410</span></span><span style="font-family:times new roman\,serif\;"><span style="font-size:12.0pt\;">.</span></span><br />\n<strong><span style="font-family:times new roman\,serif\;"><span style="font-size:12.0pt\;">Contact: </span></span></strong><span style="font-family:times new roman\,serif\;"><span style="font-size:12.0pt\;">Gary Weidner &nbsp\;&nbsp\;</span></span><a href="mailto:gweidner5@aol.com"><span style="font-family:times new roman\,serif\;"><span style="font-size:12.0pt\;">gweidner5@aol.com</span></span></a><span style="font-family:times new roman\,serif\;"><span style="font-size:12.0pt\;">&nbsp\; or cell 1 775 450 1481</span></span><br />\n<strong><span style="font-family:times new roman\,serif\;"><span style="font-size:12.0pt\;">Sponsored by: The Douglas County Historical Society\,<br />\nand the Carson Valley Chamber of Commerce.</span></span></strong><br />\n&nbsp\;</div>\n
LOCATION:Carson Valley Museum 1477 Hwy 395\, Gardnerville
UID:e.820.13169
SEQUENCE:3
DTSTAMP:20260426T032358Z
URL:https://business.carsonvalleynv.org/events/details/grant-writing-follow-up-session-08-11-2015-13169
END:VEVENT

END:VCALENDAR
