BEGIN:VCALENDAR
VERSION:2.0
PRODID:-//ChamberMaster//Event Calendar 2.0//EN
METHOD:PUBLISH
X-PUBLISHED-TTL:P3D
REFRESH-INTERVAL:P3D
CALSCALE:GREGORIAN
BEGIN:VEVENT
DTSTART;VALUE=DATE:20251104
DTEND;VALUE=DATE:20251110
TRANSP:TRANSPARENT
X-MICROSOFT-CDO-ALLDAYEVENT:TRUE
SUMMARY:Grand Slam of Curling
DESCRIPTION:The Grand Slam of Curling is an elite series of men's and women's curling events\, featuring the best teams from around the world. Lake Tahoe will host the first-ever Grand Slam of Curling event in the United States\, the GSOC Tahoe\, November 4-9\, 2025\, at the Tahoe Blue Event Center. The top 16 men's and 16 women's curling teams - including Olympic medalists\, world champions\, and fan favorites   will battle it out on this ice at this must-see six-day event\, which will include live music\, fan activations\, and interactive experiences set against the stunning backdrop of Lake Tahoe.
X-ALT-DESC;FMTTYPE=text/html:The Grand Slam of Curling is an elite series of men&rsquo\;s and women&rsquo\;s curling events\, featuring the best teams from around the world. Lake Tahoe will host the first-ever Grand Slam of Curling event in the United States\, the GSOC Tahoe\, November 4-9\, 2025\, at the Tahoe Blue Event Center. The top 16 men&rsquo\;s and 16 women&rsquo\;s curling teams - including Olympic medalists\, world champions\, and fan favorites &ndash\; will battle it out on this ice at this must-see six-day event\, which will include live music\, fan activations\, and interactive experiences set against the stunning backdrop of Lake Tahoe.
LOCATION:Tahoe Blue Event Center 75 U.S. 50 Stateline\, Nevada 89449
UID:e.820.46989
SEQUENCE:3
DTSTAMP:20260423T152524Z
URL:https://business.carsonvalleynv.org/events/details/grand-slam-of-curling-46989
END:VEVENT

END:VCALENDAR
