BEGIN:VCALENDAR
VERSION:2.0
PRODID:-//ChamberMaster//Event Calendar 2.0//EN
METHOD:PUBLISH
X-PUBLISHED-TTL:P3D
REFRESH-INTERVAL:P3D
CALSCALE:GREGORIAN
BEGIN:VEVENT
DTSTART:20251111T200000Z
DTEND:20251111T213000Z
X-MICROSOFT-CDO-ALLDAYEVENT:FALSE
SUMMARY:GGG Good Governance Group. Sheriff Daniel Coverley. 11-11-2025. Noon Tuesday COD Casino Minden $5.00 Room Rental per person Includes beverage. 775-265-0267. Open to ALL
DESCRIPTION:GGG Good Governance Group. Sheriff Daniel Coverley. 11-11-2025. Noon Tuesday COD Casino Minden $5.00 Room Rental per person Includes beverage. 775-265-0267. Open to ALL
X-ALT-DESC;FMTTYPE=text/html:GGG Good Governance Group. Sheriff Daniel Coverley. 11-11-2025. Noon Tuesday COD Casino Minden $5.00 Room Rental per person Includes beverage. 775-265-0267. Open to ALL
LOCATION:COD Casino 1593 Esmeralda Ave Minden NV.
UID:e.820.47148
SEQUENCE:3
DTSTAMP:20260423T152808Z
URL:https://business.carsonvalleynv.org/events/details/ggg-good-governance-group-sheriff-daniel-coverley-11-11-2025-noon-tuesday-cod-casino-minden-5-00-room-rental-per-person-includes-beverage-775-265-0267-open-to-all-47148
END:VEVENT

END:VCALENDAR
