BEGIN:VCALENDAR
VERSION:2.0
PRODID:-//ChamberMaster//Event Calendar 2.0//EN
METHOD:PUBLISH
X-PUBLISHED-TTL:P3D
REFRESH-INTERVAL:P3D
CALSCALE:GREGORIAN
BEGIN:VEVENT
DTSTART:20251007T190000Z
DTEND:20251007T203000Z
X-MICROSOFT-CDO-ALLDAYEVENT:FALSE
SUMMARY:GGG Good Governance Group. JUDGE Nathan Tod Young Department 1. Douglas County 10-07-2025 . Noon Tuesday COD Casino Minden $5.00 Room Rental per person Includes beverage. 775-265-0267. Open to ALL
DESCRIPTION:GGG Good Governance Group. JUDGE Nathan Tod Young Department 1. Douglas County 10-07-2025. Noon Tuesday COD Casino Minden $5.00 Room Rental per person Includes beverage. 775-265-0267. Open to ALL
X-ALT-DESC;FMTTYPE=text/html:GGG Good Governance Group. JUDGE Nathan Tod Young Department 1. Douglas County 10-07-2025. Noon Tuesday COD Casino Minden $5.00 Room Rental per person Includes beverage. 775-265-0267. Open to ALL
LOCATION:COD Casino 1593 Esmeralda Ave Minden NV
UID:e.820.47076
SEQUENCE:3
DTSTAMP:20260423T140552Z
URL:https://business.carsonvalleynv.org/events/details/ggg-good-governance-group-judge-nathan-tod-young-department-1-douglas-county-10-07-2025-noon-tuesday-cod-casino-minden-5-00-room-rental-per-person-includes-beverage-775-265-0267-open-to-all-47076
END:VEVENT

END:VCALENDAR
