BEGIN:VCALENDAR
VERSION:2.0
PRODID:-//ChamberMaster//Event Calendar 2.0//EN
METHOD:PUBLISH
X-PUBLISHED-TTL:P3D
REFRESH-INTERVAL:P3D
CALSCALE:GREGORIAN
BEGIN:VEVENT
DTSTART:20260106T200000Z
DTEND:20260106T213000Z
X-MICROSOFT-CDO-ALLDAYEVENT:FALSE
SUMMARY:GGG Good Governance Group. Jan. 6th. Stewart Indian School Cultural Center & Museum\, Melanie Smokey (education curator) also an elder from the tribe. 01-06-Noon Tuesday COD Casino Minden $5.00 Room Rental per person Includes beverage. 775-265-0267. Open t
DESCRIPTION:GGG Good Governance Group. Jan. 6th. Stewart Indian School Cultural Center & Museum\, Melanie Smokey (education curator) also an elder from the tribe. 01-06-Noon Tuesday COD Casino Minden $5.00 Room Rental per person Includes beverage. 775-265-0267. Open to ALL
X-ALT-DESC;FMTTYPE=text/html:GGG Good Governance Group. Jan. 6th. Stewart Indian School Cultural Center &amp\; Museum\, Melanie Smokey (education curator) also an elder from the tribe. 01-06-Noon Tuesday COD Casino Minden $5.00 Room Rental per person Includes beverage. 775-265-0267. Open to ALL
LOCATION:COD Casino 1593 Esmeralda Ave Minden NV.
UID:e.820.47196
SEQUENCE:3
DTSTAMP:20260423T182823Z
URL:https://business.carsonvalleynv.org/events/details/ggg-good-governance-group-jan-6th-stewart-indian-school-cultural-center-museum-melanie-smokey-education-curator-also-an-elder-from-the-tribe-01-06-noon-tuesday-cod-casino-minden-5-00-room-rental-per-person-includes-beverage-775-265-0267-open-t-47196
END:VEVENT

END:VCALENDAR
