BEGIN:VCALENDAR
VERSION:2.0
PRODID:-//ChamberMaster//Event Calendar 2.0//EN
METHOD:PUBLISH
X-PUBLISHED-TTL:P3D
REFRESH-INTERVAL:P3D
CALSCALE:GREGORIAN
BEGIN:VEVENT
DTSTART:20251104T200000Z
DTEND:20251104T213000Z
X-MICROSOFT-CDO-ALLDAYEVENT:FALSE
SUMMARY:GGG Good Governance Group. Douglas County Sheriff's Advisory Council. 11-04-2025. Noon Tuesday COD Casino Minden $5.00 Room Rental per person Includes beverage. 775-265-0267. Open to ALL
DESCRIPTION:GGG Good Governance Group. Douglas County Sheriff's Advisory Council. 11-04-2025. Noon Tuesday COD Casino Minden $5.00 Room Rental per person Includes beverage. 775-265-0267. Open to ALL
X-ALT-DESC;FMTTYPE=text/html:GGG Good Governance Group. Douglas County Sheriff&#39\;s Advisory Council. 11-04-2025. Noon Tuesday COD Casino Minden $5.00 Room Rental per person Includes beverage. 775-265-0267. Open to ALL
LOCATION:COD Casino 1593 Esmeralda Ave Minden NV.
UID:e.820.47145
SEQUENCE:3
DTSTAMP:20260423T152901Z
URL:https://business.carsonvalleynv.org/events/details/ggg-good-governance-group-douglas-county-sheriff-s-advisory-council-11-04-2025-noon-tuesday-cod-casino-minden-5-00-room-rental-per-person-includes-beverage-775-265-0267-open-to-all-47145
END:VEVENT

END:VCALENDAR
