BEGIN:VCALENDAR
VERSION:2.0
PRODID:-//ChamberMaster//Event Calendar 2.0//EN
METHOD:PUBLISH
X-PUBLISHED-TTL:P3D
REFRESH-INTERVAL:P3D
CALSCALE:GREGORIAN
BEGIN:VEVENT
DTSTART:20250916T190000Z
DTEND:20250916T203000Z
X-MICROSOFT-CDO-ALLDAYEVENT:FALSE
SUMMARY:GGG GOOD GOVERNANCE GROUP. Douglas County Board of Commissioners Nathan Tolbert & Wesley Rice. 09-19-2025 . Noon Tuesday COD Casino Minden $5.00 Room Rental per person Includes beverage. 775-265-0267. Open to ALL
DESCRIPTION:GGG GOOD GOVERNANCE GROUP. Douglas County Board of Commissioners Nathan Tolbert & Wesley Rice. 09-19-2025 . Noon Tuesday COD Casino Minden $5.00 Room Rental per person Includes beverage. 775-265-0267. Open to ALL
X-ALT-DESC;FMTTYPE=text/html:GGG GOOD GOVERNANCE GROUP. Douglas County Board of Commissioners Nathan Tolbert &amp\; Wesley Rice. 09-19-2025 . Noon Tuesday COD Casino Minden $5.00 Room Rental per person Includes beverage. 775-265-0267. Open to ALL
LOCATION:COD Casino 1593 Esmeralda Ave Minden NV
UID:e.820.47064
SEQUENCE:3
DTSTAMP:20260423T122914Z
URL:https://business.carsonvalleynv.org/events/details/ggg-good-governance-group-douglas-county-board-of-commissioners-nathan-tolbert-wesley-rice-09-19-2025-noon-tuesday-cod-casino-minden-5-00-room-rental-per-person-includes-beverage-775-265-0267-open-to-all-47064
END:VEVENT

END:VCALENDAR
