BEGIN:VCALENDAR
VERSION:2.0
PRODID:-//ChamberMaster//Event Calendar 2.0//EN
METHOD:PUBLISH
X-PUBLISHED-TTL:P3D
REFRESH-INTERVAL:P3D
CALSCALE:GREGORIAN
BEGIN:VEVENT
DTSTART:20260428T190000Z
DTEND:20260428T203000Z
X-MICROSOFT-CDO-ALLDAYEVENT:FALSE
SUMMARY:GGG April 28 Blayne Osborn & Brianna Cowan - Candidates for State Assembly - D39. Noon Tuesday 04-28-26 COD Casino Minden $5.00 Room Rental per person Includes beverage. 775-265-0267. Open to ALL. Good Governance Group.
DESCRIPTION:GGG April 28 Blayne Osborn & Brianna Cowan - Candidates for State Assembly - D39. Noon Tuesday 04-28-26 COD Casino Minden $5.00 Room Rental per person Includes beverage. 775-265-0267. Open to ALL. Good Governance Group.
X-ALT-DESC;FMTTYPE=text/html:GGG April 28 Blayne Osborn &amp\; Brianna Cowan - Candidates for State Assembly - D39. Noon Tuesday 04-28-26 COD Casino Minden $5.00 Room Rental per person Includes beverage. 775-265-0267. Open to ALL. Good Governance Group.
LOCATION:COD Casino 1593 Esmeralda Ave Minden NV.
UID:e.820.47335
SEQUENCE:3
DTSTAMP:20260424T192933Z
URL:https://business.carsonvalleynv.org/events/details/ggg-april-28-blayne-osborn-brianna-cowan-candidates-for-state-assembly-d39-noon-tuesday-04-28-26-cod-casino-minden-5-00-room-rental-per-person-includes-beverage-775-265-0267-open-to-all-good-governance-group-47335
END:VEVENT

END:VCALENDAR
