BEGIN:VCALENDAR
VERSION:2.0
PRODID:-//ChamberMaster//Event Calendar 2.0//EN
METHOD:PUBLISH
X-PUBLISHED-TTL:P3D
REFRESH-INTERVAL:P3D
CALSCALE:GREGORIAN
BEGIN:VEVENT
DTSTART:20151101T000000Z
DTEND:20151101T050000Z
X-MICROSOFT-CDO-ALLDAYEVENT:FALSE
SUMMARY:Genoa Lakes Halloween Costume Party
DESCRIPTION:Genoa Lakes Halloween Costume Party\n\n\n\nWith music by\n\nMo'z Motley Blues Band\n\n\n\nDracula's Delectable Menu:\n\nCauldron of Despair Pumpkin Soup\n\nGreen Slime Spinach & Artichoke Dips with Pita\n\nWarewolf Bites Bacon Wrapped Pineapple w/BBQ sauce\n\nVampire Kiss Tomato Mozzarella & Basil\n\nLittle Shop of Horrors Antipasto Platter\n\nScarecrow Autumn fruit Display\n\nSpooky stinky Garlic Smashed Potatoes\n\nScream Bruno's Mamma Cioppino Creation\n\n40 Cloves of Garlic Studded Prime Rib of Beef w/horseradish Cream Fraiche & Beef Au Jus\n\nTransylvania Goulash Stewed Pork Shoulder & Sauerkraut\n\nVelvet Lined Coffin Beef Short-Ribs\n\nHell on Earth Spicy Prawns\n\n\n\nDessert:\n\nCreepy Witches' Fingers\n\nBiscotti Cookies\n\nMummy Cannoli Rolls\n\nGhost Pie Lemon Meringue Pie\n\nSmashed Jack-O-Lantern's Head Pumpkin Pie with Whipped Cream\n\nZombie Triple Chocolate CakeDisclaimer:\n\n\n\nTable of Ten discount applies to a full table of ten only at $600.  Reservations are prepaid and no refunds.  Costumes are encouraged. Limited seating of 200 guests.  Award of glass art will be given for the best costume\, must be present to win.
X-ALT-DESC;FMTTYPE=text/html:<div style="text-align: center\;"><span style="font-family: comic sans ms\;">Genoa Lakes Halloween Costume Party<br />\n<br />\nWith music by<br />\nMo&#39\;z Motley Blues Band<br />\n<br />\nDracula&#39\;s Delectable Menu:<br />\nCauldron of Despair Pumpkin Soup<br />\nGreen Slime Spinach &amp\; Artichoke Dips with Pita<br />\nWarewolf Bites Bacon Wrapped Pineapple w/BBQ sauce<br />\nVampire Kiss Tomato Mozzarella &amp\; Basil<br />\nLittle Shop of Horrors Antipasto Platter<br />\nScarecrow Autumn fruit Display<br />\nSpooky stinky Garlic Smashed Potatoes<br />\nScream Bruno&#39\;s Mamma Cioppino Creation<br />\n40 Cloves of Garlic Studded Prime Rib of Beef w/horseradish Cream Fraiche &amp\; Beef Au Jus<br />\nTransylvania Goulash Stewed Pork Shoulder &amp\; Sauerkraut<br />\nVelvet Lined Coffin Beef Short-Ribs<br />\nHell on Earth Spicy Prawns<br />\n<br />\nDessert:<br />\nCreepy Witches&#39\; Fingers<br />\nBiscotti Cookies<br />\nMummy Cannoli Rolls<br />\nGhost Pie Lemon Meringue Pie<br />\nSmashed Jack-O-Lantern&#39\;s Head Pumpkin Pie with Whipped Cream<br />\nZombie Triple Chocolate </span><span style="font-family: comic sans ms\;">Cake</span>Disclaimer:<br />\n<br />\nTable of Ten discount applies to a full table of ten only at $600.&nbsp\; Reservations are prepaid and no refunds.&nbsp\; Costumes are encouraged. Limited seating of 200 guests.&nbsp\; Award of glass art will be given for the best costume\, must be present to win.<br />\n<br />\n&nbsp\;</div>\n
LOCATION:Genoa Lakes Supper Club Pavilion
UID:e.820.13757
SEQUENCE:3
DTSTAMP:20260426T001348Z
URL:https://business.carsonvalleynv.org/events/details/genoa-lakes-halloween-costume-party-10-31-2015-13757
END:VEVENT

END:VCALENDAR
