BEGIN:VCALENDAR
VERSION:2.0
PRODID:-//ChamberMaster//Event Calendar 2.0//EN
METHOD:PUBLISH
X-PUBLISHED-TTL:P3D
REFRESH-INTERVAL:P3D
CALSCALE:GREGORIAN
BEGIN:VEVENT
DTSTART:20151101T003000Z
DTEND:20151101T040000Z
X-MICROSOFT-CDO-ALLDAYEVENT:FALSE
SUMMARY:Genoa Holloween Party and Hay Ride
DESCRIPTION:Genoa Halloween Party & Hay Ride   5:30 to 9 p.m.\n\nThe Annual Genoa Halloween Party and Hay Ride is open to all residents of Genoa and the Genoa Area. The Town will provide a main dish for the dinner\, and soft drinks. Parents: Please bring a side dish and donate bottle of wine or beer for the "Parents Bar." There will be music and games with a prizes for kids.\n\nThe Hay Ride begins at 5:30 p.m. outside the Genoa Town Hall.\n\nHave a scary-safe Halloween!
X-ALT-DESC;FMTTYPE=text/html:<p><span class="style39"><a href="http://www.genoanevada.org/otherscheduledevents.htm#Halloween_Party"><font color="#0066cc"><strong>Genoa Halloween Party &amp\; Hay Ride</strong></font></a><strong><font color="#cc0000"> &mdash\; 5:30 to 9 p.m.</font></strong></span><br />\nThe Annual Genoa Halloween Party and Hay Ride is open to all residents of Genoa and the Genoa Area. The Town will provide a main dish for the dinner\, and soft drinks. Parents: Please bring a side dish and donate bottle of wine or beer for the &quot\;Parents Bar.&quot\; There will be music and games with a prizes for kids.</p>\n\n<p>The <strong>Hay Ride</strong> begins at 5:30 p.m. outside the Genoa Town Hall.</p>\n\n<p><strong><em>Have a scary-safe Halloween!</em></strong></p>\n
LOCATION:Town of Genoa
UID:e.820.13727
SEQUENCE:3
DTSTAMP:20260426T001434Z
URL:https://business.carsonvalleynv.org/events/details/genoa-holloween-party-and-hay-ride-10-31-2015-13727
END:VEVENT

END:VCALENDAR
