BEGIN:VCALENDAR
VERSION:2.0
PRODID:-//ChamberMaster//Event Calendar 2.0//EN
METHOD:PUBLISH
X-PUBLISHED-TTL:P3D
REFRESH-INTERVAL:P3D
CALSCALE:GREGORIAN
BEGIN:VEVENT
DTSTART;VALUE=DATE:20160428
DTEND;VALUE=DATE:20160502
TRANSP:TRANSPARENT
X-MICROSOFT-CDO-ALLDAYEVENT:TRUE
SUMMARY:Genoa Cowboy Festival 2016
DESCRIPTION:Cowboy Festival\n\nDaytime Events\n\nA variety of daytime events are FREE at the Cowboy Festival including:\n\n \n\n	Chautauquas\n	Living History Tours\n	Musical Performances\n	Cowboy Poetry\n	Melodramas\n	Historical Reenactments\n\nAnd So Much More\n\n\n\nThere are Concerts each evening and a BBQ & Barn Dance\, Ranch Tours\, A Cowboy Breakfast a too much to list.  Visit the Website for the details
X-ALT-DESC;FMTTYPE=text/html:Cowboy Festival<br />\nDaytime Events<br />\nA variety of daytime events are FREE at the Cowboy Festival including:<br />\n&nbsp\;\n<ul>\n	<li>Chautauquas</li>\n	<li>Living History Tours</li>\n	<li>Musical Performances</li>\n	<li>Cowboy Poetry</li>\n	<li>Melodramas</li>\n	<li>Historical Reenactments</li>\n</ul>\nAnd So Much More<br />\n<br />\nThere are&nbsp\;Concerts each evening and a BBQ &amp\; Barn Dance\, Ranch Tours\, A Cowboy Breakfast a too much to list.&nbsp\; Visit the Website for the details<br />\n&nbsp\;
LOCATION:See Website for details and locations of all events
UID:e.820.17385
SEQUENCE:3
DTSTAMP:20260423T221457Z
URL:https://business.carsonvalleynv.org/events/details/genoa-cowboy-festival-2016-04-28-2016-17385
END:VEVENT

END:VCALENDAR
