BEGIN:VCALENDAR
VERSION:2.0
PRODID:-//ChamberMaster//Event Calendar 2.0//EN
METHOD:PUBLISH
X-PUBLISHED-TTL:P3D
REFRESH-INTERVAL:P3D
CALSCALE:GREGORIAN
BEGIN:VEVENT
DTSTART:20251214T013000Z
DTEND:20251214T013000Z
X-MICROSOFT-CDO-ALLDAYEVENT:FALSE
SUMMARY:Genoa Country Christmas
DESCRIPTION:Welcome to Genoa Country Christmas! Come join us at the Genoa Town Hall for a festive celebration filled with holiday cheer! Get into the spirit of the season with our country-themed event featuring live music and delicious dessert. There will be a no-host bar with doors opening at 5:30 p.m. Don't miss out on this special event that will surely get you in the Christmas Spirit. Hope to see you there!
X-ALT-DESC;FMTTYPE=text/html:Welcome to Genoa Country Christmas! Come join us at the Genoa Town Hall for a festive celebration filled with holiday cheer! Get into the spirit of the season with our country-themed event featuring live music and delicious dessert. There will be a no-host bar with doors opening at 5:30 p.m. Don&#39\;t miss out on this special event that will surely get you in the Christmas Spirit. Hope to see you there!
LOCATION:Genoa Town Hall 2287 Main Street Genoa\, NV 89411
UID:e.820.46956
SEQUENCE:3
DTSTAMP:20260423T164832Z
URL:https://business.carsonvalleynv.org/events/details/genoa-country-christmas-12-13-2025-46956
END:VEVENT

END:VCALENDAR
