BEGIN:VCALENDAR
VERSION:2.0
PRODID:-//ChamberMaster//Event Calendar 2.0//EN
METHOD:PUBLISH
X-PUBLISHED-TTL:P3D
REFRESH-INTERVAL:P3D
CALSCALE:GREGORIAN
BEGIN:VEVENT
DTSTART:20150914T000000Z
DTEND:20150914T020000Z
X-MICROSOFT-CDO-ALLDAYEVENT:FALSE
SUMMARY:Genoa Concerts on the Green
DESCRIPTION:Genoa Concerts on the Green\n\nFeaturing:  The Three Wisemen (Jass/Blues)\n\nBring a picnic and a blanket to Genoa Park and enjoy an evening of FREE music.
X-ALT-DESC;FMTTYPE=text/html:Genoa Concerts on the Green<br />\nFeaturing:&nbsp\; The Three Wisemen (Jass/Blues)<br />\nBring a picnic and a blanket to Genoa Park and enjoy an evening of FREE music.
LOCATION:Genoa Park\, Genoa NV
UID:e.820.13038
SEQUENCE:3
DTSTAMP:20260426T015748Z
URL:https://business.carsonvalleynv.org/events/details/genoa-concerts-on-the-green-09-13-2015-13038
END:VEVENT

END:VCALENDAR
