BEGIN:VCALENDAR
VERSION:2.0
PRODID:-//ChamberMaster//Event Calendar 2.0//EN
METHOD:PUBLISH
X-PUBLISHED-TTL:P3D
REFRESH-INTERVAL:P3D
CALSCALE:GREGORIAN
BEGIN:VEVENT
DTSTART:20160912T000000Z
DTEND:20160912T020000Z
X-MICROSOFT-CDO-ALLDAYEVENT:FALSE
SUMMARY:Genoa Concerts on the Green
DESCRIPTION:Genoa concerts on the Green\n\nPresents:  TBA\n\nBring a picnic & a blanket to Genoa Park and enjoy an evening of FREE music.
X-ALT-DESC;FMTTYPE=text/html:Genoa concerts on the Green<br />\nPresents:&nbsp\; TBA<br />\nBring a picnic &amp\; a blanket to Genoa Park and enjoy an evening of FREE music.
LOCATION:Genoa Park\, Genoa NV
UID:e.820.18929
SEQUENCE:3
DTSTAMP:20260423T154434Z
URL:https://business.carsonvalleynv.org/events/details/genoa-concerts-on-the-green-09-11-2016-18929
END:VEVENT

END:VCALENDAR
