BEGIN:VCALENDAR
VERSION:2.0
PRODID:-//ChamberMaster//Event Calendar 2.0//EN
METHOD:PUBLISH
X-PUBLISHED-TTL:P3D
REFRESH-INTERVAL:P3D
CALSCALE:GREGORIAN
BEGIN:VEVENT
DTSTART:20150810T000000Z
DTEND:20150810T020000Z
X-MICROSOFT-CDO-ALLDAYEVENT:FALSE
SUMMARY:Genoa Concerts on the Green
DESCRIPTION:Genoa Concerts on the Green\n\nFeaturing: Suspect Terrane (Bluegrass)\n\nBring a picnic and a blanket to Genoa Park and enjoy an evening of FREE music.
X-ALT-DESC;FMTTYPE=text/html:Genoa Concerts on the Green<br />\nFeaturing: Suspect Terrane (Bluegrass)<br />\nBring a picnic and a blanket to Genoa Park and enjoy an evening of FREE music.
LOCATION:Genoa Park\, Genoa NV
UID:e.820.13037
SEQUENCE:3
DTSTAMP:20260426T032859Z
URL:https://business.carsonvalleynv.org/events/details/genoa-concerts-on-the-green-08-09-2015-13037
END:VEVENT

END:VCALENDAR
