BEGIN:VCALENDAR
VERSION:2.0
PRODID:-//ChamberMaster//Event Calendar 2.0//EN
METHOD:PUBLISH
X-PUBLISHED-TTL:P3D
REFRESH-INTERVAL:P3D
CALSCALE:GREGORIAN
BEGIN:VEVENT
DTSTART:20150916T184500Z
DTEND:20150916T200000Z
X-MICROSOFT-CDO-ALLDAYEVENT:FALSE
SUMMARY:General Membership Luncheon -September 2015
DESCRIPTION:Carson Valley Chamber of Commerce\n\nGeneral Membership Luncheon\n\n\n\n\n\n\n\nOur speaker for the event will be Bill Anderson\, the Chief Economist for the Department of Employment\, Training and Rehabilitation of the state of Nevada. DETR tracks employment from both sides\, that of the citizens trying to find a job and of the employers trying to fill them.  They are introducing new programs and technology to their efforts.\n\nOur business of the month is Century 21 Real Estate.
X-ALT-DESC;FMTTYPE=text/html:<h3 data-mce-style="text-align: center\;" style="text-align: center\;">Carson Valley Chamber of Commerce<br />\nGeneral Membership Luncheon<br />\n<br />\n<br />\n<br />\nOur speaker for the event will be Bill Anderson\, the Chief Economist for the Department of Employment\, Training and Rehabilitation of the state of Nevada. DETR tracks employment from both sides\, that of the citizens trying to find a job and of the employers trying to fill them.&nbsp\; They are introducing new programs and technology to their efforts.</h3>\n\n<h3 data-mce-style="text-align: center\;" style="text-align: center\;">Our business of the month is Century 21 Real Estate.</h3>\n
LOCATION:Genoa Lakes (The Banquet Pavilion at the Lakes Course)
UID:e.820.13168
SEQUENCE:3
DTSTAMP:20260426T020014Z
URL:https://business.carsonvalleynv.org/events/details/general-membership-luncheon-september-2015-09-16-2015-13168
END:VEVENT

END:VCALENDAR
