BEGIN:VCALENDAR
VERSION:2.0
PRODID:-//ChamberMaster//Event Calendar 2.0//EN
METHOD:PUBLISH
X-PUBLISHED-TTL:P3D
REFRESH-INTERVAL:P3D
CALSCALE:GREGORIAN
BEGIN:VEVENT
DTSTART:20150819T184500Z
DTEND:20150819T200000Z
X-MICROSOFT-CDO-ALLDAYEVENT:FALSE
SUMMARY:General Membership Luncheon - August 2015
DESCRIPTION:Carson Valley Chamber of Commerce\n\nGeneral Membership Luncheon\n\n\n\nYou're Supporting What?\n\n\n\nThe County Connectivity group of the Economic Vitality Program has proposed three revenue enhancements for the County for transportation related issues. A sales tax increase\, a gas tax increase and a utility operator fee. The Chamber Board has taken a position in support of these three efforts\, due to a combination of what their financial impacts would be on businesses and individuals\, how the funds raised could be leveraged and what the dollars would be used for. The items will be coming before the Douglas County Commission again in the next few months\, and we feel it important to have the discussion again to update the membership.\n\n\n\nAt the luncheon we will go over the main points of those three areas and do our best to answer questions you may have\, particularly about how the monies would be used\, and what the Return on Investment could be. Please join in the conversation.\n\nWe are at Jethro's and Dustin and his team always provide a great meal...Our Businesses of the Month are the Carson Valley Arts Council and the Minden Tahoe Airport. And just to make sure no one gets bored\, we'll introduce our 2015-2016\n\nBoard of Directors.
X-ALT-DESC;FMTTYPE=text/html:<h3 data-mce-style="text-align: center\;" style="text-align: center\;">Carson Valley Chamber of Commerce<br />\nGeneral Membership Luncheon<br />\n<br />\nYou&#39\;re Supporting What?</h3>\n\n<h4 data-mce-style="text-align: center\;" style="text-align: center\;"><br />\nThe County Connectivity group of the Economic Vitality Program has proposed three revenue enhancements for the County for transportation related issues. A sales tax increase\, a gas tax increase and a utility operator fee. The Chamber Board has taken a position in support of these three efforts\, due to a combination of what their financial impacts would be on businesses and individuals\, how the funds raised could be leveraged and what the dollars would be used for. The items will be coming before the Douglas County Commission again in the next few months\, and we feel it important to have the discussion again to update the membership.</h4>\n\n<h4 data-mce-style="text-align: center\;" style="text-align: center\;"><br />\nAt the luncheon we will go over the main points of those three areas and do our best to answer questions you may have\, particularly about how the monies would be used\, and what the Return on Investment could be. Please join in the conversation.</h4>\n\n<h4 style="text-align: center\;">We are at Jethro&#39\;s and Dustin and his team always provide a great meal...Our Businesses of the Month are the Carson Valley Arts Council and the Minden Tahoe Airport. And just to make sure no one gets bored\, we&#39\;ll introduce our 2015-2016<br />\nBoard of Directors.</h4>\n
LOCATION:Jethro's 1281 Kimmerling
UID:e.820.13167
SEQUENCE:3
DTSTAMP:20260426T032337Z
URL:https://business.carsonvalleynv.org/events/details/general-membership-luncheon-august-2015-08-19-2015-13167
END:VEVENT

END:VCALENDAR
