BEGIN:VCALENDAR
VERSION:2.0
PRODID:-//ChamberMaster//Event Calendar 2.0//EN
METHOD:PUBLISH
X-PUBLISHED-TTL:P3D
REFRESH-INTERVAL:P3D
CALSCALE:GREGORIAN
BEGIN:VEVENT
DTSTART:20251205T010000Z
DTEND:20251205T023000Z
X-MICROSOFT-CDO-ALLDAYEVENT:FALSE
SUMMARY:Gardnerville's 20th Annual Christmas Kickoff
DESCRIPTION:There are electric carriage rides around the park\, Santa will be there\, live entertainment\, dancing Christmas Lights and fireworks. Santa will arrive at 5:00 p.m. Carriage rides around the park start after Santa arrives. Entertainment begins at 5:30. After the live entertainment will be the Christmas Light Show on the pavilion and the finale fireworks. Hope to see you all there!
X-ALT-DESC;FMTTYPE=text/html:There are electric carriage rides around the park\, Santa will be there\, live entertainment\, dancing Christmas Lights and fireworks. Santa will arrive at 5:00 p.m. Carriage rides around the park start after Santa arrives. Entertainment begins at 5:30. After the live entertainment will be the Christmas Light Show on the pavilion and the finale fireworks. Hope to see you all there!
LOCATION:Heritage Park 1447 Courthouse Street Gardnerville\, NV
UID:e.820.46983
SEQUENCE:3
DTSTAMP:20260423T163749Z
URL:https://business.carsonvalleynv.org/events/details/gardnerville-s-20th-annual-christmas-kickoff-46983
END:VEVENT

END:VCALENDAR
