BEGIN:VCALENDAR
VERSION:2.0
PRODID:-//ChamberMaster//Event Calendar 2.0//EN
METHOD:PUBLISH
X-PUBLISHED-TTL:P3D
REFRESH-INTERVAL:P3D
CALSCALE:GREGORIAN
BEGIN:VEVENT
DTSTART:20251005T180000Z
DTEND:20251005T210000Z
X-MICROSOFT-CDO-ALLDAYEVENT:FALSE
SUMMARY:Full Throttle Bingo
DESCRIPTION:The AACA and Northern Nevada Car Coalition are coming together to host Full Throttle Bingo paired with one of the last opportunities to show off your cars before putting them away for the season.
X-ALT-DESC;FMTTYPE=text/html:The AACA and Northern Nevada Car Coalition are coming together to host Full Throttle Bingo paired with one of the last opportunities to show off your cars before putting them away for the season.
LOCATION:CVIC Hall
UID:e.820.46910
SEQUENCE:3
DTSTAMP:20260423T134724Z
URL:https://business.carsonvalleynv.org/events/details/full-throttle-bingo-46910
END:VEVENT

END:VCALENDAR
