BEGIN:VCALENDAR
VERSION:2.0
PRODID:-//ChamberMaster//Event Calendar 2.0//EN
METHOD:PUBLISH
X-PUBLISHED-TTL:P3D
REFRESH-INTERVAL:P3D
CALSCALE:GREGORIAN
BEGIN:VEVENT
DTSTART:20151111T190000Z
DTEND:20151111T220000Z
X-MICROSOFT-CDO-ALLDAYEVENT:FALSE
SUMMARY:Free Spaghetti Lunch for Veterans & Military
DESCRIPTION:The Carson Valley Inn is serving a Free Spaghetti Lunch for all Veterans and Active Military   plus one guest   on Veteran's Day\, Wednesday\, November 11. The event will be held in the Valley Ballroom from 11 a.m. to 2 p.m.   Veterans and active military personnel simply present your military ID for entrance\, and lunch for you and your guest is on the Carson Valley Inn!  Don't have your ID? Tell us about your service to our country and we'll welcome you anyway!\n\n \n\nAt 11 a.m. there will be a Veteran's Day colors presentation by the Color Guard from the Marine Corps Mountain Warfare Training Center\, the National Anthem will be sung by Melissa Dru and an invocation will be given by Fr. Doroteo Rojas-Serrano of St. Gall's Church in Gardnerville.  The free spaghetti lunch includes fresh tossed salad with choice of ranch\, Italian or thousand island dressings\; spaghetti with choice of marinara sauce or Bolognese (meat sauce)\; garlic bread and assorted cookies.\n\n \n\nThis is the fifth year for the Carson Valley Inn's free Veterans Day Spaghetti Lunch. The bond of service to our country brings together hundreds of neighbors and community residents who otherwise wouldn't have a chance to meet\, but who all have commonality in their patriotism. Vietnam Veteran and CVI Entertainment Manager Stew Stewart coordinates the event and Stew personally greets almost every attendee whether current\, former or family of military.
X-ALT-DESC;FMTTYPE=text/html:<span style="font-family: times new roman\,serif\;"><span style="font-size: medium\;">The Carson Valley Inn is serving a Free Spaghetti Lunch for all Veterans and Active Military &ndash\; plus one guest &ndash\; on Veteran&#39\;s Day\, Wednesday\, November 11. The event will be held in the Valley Ballroom from 11 a.m. to 2 p.m.&nbsp\;&nbsp\; </span></span><span style="font-size: medium\;"><span style="font-family: times new roman\;">Veterans and active military personnel simply present your military ID for entrance\, and lunch for you and your guest is on the Carson Valley Inn!&nbsp\; Don&#39\;t have your ID? Tell us about your service to our country and we&#39\;ll welcome you anyway!</span></span><br />\n&nbsp\;<br />\n<span style="font-family: times new roman\,serif\;"><span style="font-size: medium\;">At 11 a.m. there will be a Veteran&#39\;s Day colors presentation by the Color Guard from the Marine Corps Mountain Warfare Training Center\, the National Anthem will be sung by Melissa Dru and an invocation will be given by Fr. Doroteo Rojas-Serrano of St. Gall&rsquo\;s Church in Gardnerville.&nbsp\; The free spaghetti lunch includes fresh tossed salad with choice of ranch\, Italian or thousand island dressings\; spaghetti with choice of marinara sauce or Bolognese (meat sauce)\; garlic bread and assorted cookies.</span></span><br />\n&nbsp\;<br />\n<span style="font-family: times new roman\,serif\;"><span style="font-size: medium\;">This is the fifth year for the Carson Valley Inn&#39\;s free Veterans Day Spaghetti Lunch. The bond of service to our country brings together hundreds of neighbors and community residents who otherwise wouldn&#39\;t have a chance to meet\, but who all have commonality in their patriotism. Vietnam Veteran and CVI Entertainment Manager Stew Stewart coordinates the event and Stew personally greets almost every attendee whether current\, former or family of military.</span></span><br />\n&nbsp\;<br />\n&nbsp\;
LOCATION:Carson Valley Inn Ballroom
UID:e.820.13787
SEQUENCE:3
DTSTAMP:20260425T223156Z
URL:https://business.carsonvalleynv.org/events/details/free-spaghetti-lunch-for-veterans-military-11-11-2015-13787
END:VEVENT

END:VCALENDAR
