BEGIN:VCALENDAR
VERSION:2.0
PRODID:-//ChamberMaster//Event Calendar 2.0//EN
METHOD:PUBLISH
X-PUBLISHED-TTL:P3D
REFRESH-INTERVAL:P3D
CALSCALE:GREGORIAN
BEGIN:VEVENT
DTSTART:20150824T010000Z
DTEND:20150824T010000Z
X-MICROSOFT-CDO-ALLDAYEVENT:FALSE
SUMMARY:Free COncert in Minden Park
DESCRIPTION:The Heritage Singers will perform at Minden Park on Sunday\, the 23rd of August\, beginning at 6P. Bring a lawn chair\, picnic and be ready for time of inspirational and uplifting music. Presented by the High Sierra Fellowship.
X-ALT-DESC;FMTTYPE=text/html:The Heritage Singers will perform at Minden Park on Sunday\, the 23rd of August\, beginning at 6P. Bring a lawn chair\, picnic and be ready for time of inspirational and uplifting music. Presented by the High Sierra Fellowship.
LOCATION:Minden Park
UID:e.820.13614
SEQUENCE:3
DTSTAMP:20260426T033015Z
URL:https://business.carsonvalleynv.org/events/details/free-concert-in-minden-park-08-23-2015-13614
END:VEVENT

END:VCALENDAR
