BEGIN:VCALENDAR
VERSION:2.0
PRODID:-//ChamberMaster//Event Calendar 2.0//EN
METHOD:PUBLISH
X-PUBLISHED-TTL:P3D
REFRESH-INTERVAL:P3D
CALSCALE:GREGORIAN
BEGIN:VEVENT
DTSTART:20160204T020000Z
DTEND:20160204T060000Z
X-MICROSOFT-CDO-ALLDAYEVENT:FALSE
SUMMARY:Free Cabaret Lounge Entertainment / The Jonny Smokes
DESCRIPTION:The Jonny Smokes one man bank show tonight. While carrying the label of "One Man Band\," this moniker fails miserably to even begin to define the high tech and energetic live experience of a Jonny Smokes show. Turned loose upon a stage filled with beautiful instruments and modern equipment\, Jonny Smokes enthusiastically delivers a high tech one man exhibition as he consistently performs over 150 solo shows every year in the western United States and throughout Europe.
X-ALT-DESC;FMTTYPE=text/html:The Jonny Smokes one man bank show tonight. While carrying the label of &quot\;One Man Band\,&quot\; this moniker fails miserably to even begin to define the high tech and energetic live experience of a Jonny Smokes show. Turned loose upon a stage filled with beautiful instruments and modern equipment\, Jonny Smokes enthusiastically delivers a high tech one man exhibition as he consistently performs over 150 solo shows every year in the western United States and throughout Europe.
LOCATION:Carson Valley Inn Cabaret Lounge
UID:e.820.17436
SEQUENCE:3
DTSTAMP:20260425T172636Z
URL:https://business.carsonvalleynv.org/events/details/free-cabaret-lounge-entertainment-the-jonny-smokes-02-03-2016-17436
END:VEVENT

END:VCALENDAR
