BEGIN:VCALENDAR
VERSION:2.0
PRODID:-//ChamberMaster//Event Calendar 2.0//EN
METHOD:PUBLISH
X-PUBLISHED-TTL:P3D
REFRESH-INTERVAL:P3D
CALSCALE:GREGORIAN
BEGIN:VEVENT
DTSTART:20160209T020000Z
DTEND:20160211T060000Z
X-MICROSOFT-CDO-ALLDAYEVENT:FALSE
SUMMARY:Free Cabaret Lounge Entertainment / Steve Lord
DESCRIPTION:Free Cabaret Lounge Entertainment by Steve Lord Playing  Mon February 8 - Wed February 10\n\n\n\nA guitarist with dynamic vocals\, Steve is a main stage West Coast performer. A man of a thousand songs\, Steve presents an evening of oldies\, country\, pop\, blues\, jazz\, soul and rock 'n' roll.
X-ALT-DESC;FMTTYPE=text/html:Free Cabaret Lounge Entertainment by Steve Lord Playing &nbsp\;Mon February 8&nbsp\;- Wed February 10<br />\n<br />\nA guitarist with dynamic vocals\, Steve is a main stage West Coast performer. A man of a thousand songs\, Steve presents an evening of oldies\, country\, pop\, blues\, jazz\, soul and rock &#39\;n&#39\; roll.<br />\n&nbsp\;
LOCATION:Carson Valley Inn Cabaret Lounge Entertainment Hours: Sunday Wednesday: 6 10 p.m. Thursday: 7:00 p.m. 11 p.m. Friday and Saturday: 8:00 p.m. 1:00 a.m.
UID:e.820.17439
SEQUENCE:3
DTSTAMP:20260425T172510Z
URL:https://business.carsonvalleynv.org/events/details/free-cabaret-lounge-entertainment-steve-lord-02-08-2016-17439
END:VEVENT

END:VCALENDAR
