BEGIN:VCALENDAR
VERSION:2.0
PRODID:-//ChamberMaster//Event Calendar 2.0//EN
METHOD:PUBLISH
X-PUBLISHED-TTL:P3D
REFRESH-INTERVAL:P3D
CALSCALE:GREGORIAN
BEGIN:VEVENT
DTSTART:20230920T150000Z
DTEND:20230920T230000Z
X-MICROSOFT-CDO-ALLDAYEVENT:FALSE
SUMMARY:Free Blood Pressure Check
DESCRIPTION:High blood pressure\, or hypertension\, is a condition that does not cause notable symptoms for years. Having your blood pressure checked is the only way to know if it is high\; untreated hypertension can result in serious illness. Established patients with a hypertension diagnosis are welcome to receive free\, regular blood pressure checks. No appointment necessary. For more information visit the site in event description
X-ALT-DESC;FMTTYPE=text/html:High blood pressure\, or hypertension\, is a condition that does not cause notable symptoms for years. Having your blood pressure checked is the only way to know if it is high\; untreated hypertension can result in serious illness. Established patients with a hypertension diagnosis are welcome to receive free\, regular blood pressure checks. No appointment necessary. For more information visit the site in event description
LOCATION:Barton Center for Orthopedics and Wellness 2170B South Ave. South Lake Tahoe
UID:e.820.42866
SEQUENCE:3
DTSTAMP:20260424T233732Z
URL:https://business.carsonvalleynv.org/events/details/free-blood-pressure-check-42866
END:VEVENT

END:VCALENDAR
