BEGIN:VCALENDAR
VERSION:2.0
PRODID:-//ChamberMaster//Event Calendar 2.0//EN
METHOD:PUBLISH
X-PUBLISHED-TTL:P3D
REFRESH-INTERVAL:P3D
CALSCALE:GREGORIAN
BEGIN:VEVENT
DTSTART:20150905T010000Z
DTEND:20150905T040000Z
X-MICROSOFT-CDO-ALLDAYEVENT:FALSE
SUMMARY:Family Roller Night
DESCRIPTION:Douglas County Community & Senior Center\n\nInvites you to Family Roller Night\n\nat the Community Center\n\n\n\nWe will be opening up the basketball courts for a roller skating party.  You must have your own skates and they can not be metal.  We will have refreshments for purchase and a DJ.  Bring your family and friends for a night of roller skating fun!
X-ALT-DESC;FMTTYPE=text/html:Douglas County Community &amp\; Senior Center<br />\nInvites you to Family Roller Night<br />\nat the Community Center<br />\n<br />\nWe will be opening up the basketball courts for a roller skating party.&nbsp\; You must have your own skates and they can not be metal.&nbsp\; We will have refreshments for purchase and a DJ.&nbsp\; Bring your family and friends for a night of roller skating fun!
LOCATION:Douglas County Community and Senior Center
UID:e.820.13662
SEQUENCE:3
DTSTAMP:20260426T015332Z
URL:https://business.carsonvalleynv.org/events/details/family-roller-night-09-04-2015-13662
END:VEVENT

END:VCALENDAR
