BEGIN:VCALENDAR
VERSION:2.0
PRODID:-//ChamberMaster//Event Calendar 2.0//EN
METHOD:PUBLISH
X-PUBLISHED-TTL:P3D
REFRESH-INTERVAL:P3D
CALSCALE:GREGORIAN
BEGIN:VEVENT
DTSTART:20160326T010000Z
DTEND:20160326T033000Z
X-MICROSOFT-CDO-ALLDAYEVENT:FALSE
SUMMARY:Family Movie Night
DESCRIPTION:Bring the family out for a movie at the community center. Cost includes 1 slice of pizza\, a drink and popcorn. Additional pizza slices may be purchased as well as other snacks. Ages 12 and under must be accompanied by an adult. Movie TBA
X-ALT-DESC;FMTTYPE=text/html:Bring the family out for a movie at the community center. Cost includes 1 slice of pizza\, a drink and popcorn. Additional pizza slices may be purchased as well as other snacks. Ages 12 and under must be accompanied by an adult. Movie TBA
LOCATION:Douglas County Community and Senior Center
UID:e.820.17427
SEQUENCE:3
DTSTAMP:20260425T154823Z
URL:https://business.carsonvalleynv.org/events/details/family-movie-night-03-25-2016-17427
END:VEVENT

END:VCALENDAR
