BEGIN:VCALENDAR
VERSION:2.0
PRODID:-//ChamberMaster//Event Calendar 2.0//EN
METHOD:PUBLISH
X-PUBLISHED-TTL:P3D
REFRESH-INTERVAL:P3D
CALSCALE:GREGORIAN
BEGIN:VEVENT
DTSTART:20250920T003000Z
DTEND:20250920T023000Z
X-MICROSOFT-CDO-ALLDAYEVENT:FALSE
SUMMARY:Family Clay Play - 3 leaf bowls
DESCRIPTION:This is a super fun\, easy clay class! No experience necessary.\n\nBring a friend\, bring a family member bring your kids and come have a relaxing evening!\n\nAll materials and tools will be provided.\n\nAges 6+ welcome with a participating adult.\n\nAge 13+ can be dropped off. \n\nEveryone needs their own ticket.\n\nEach person will make 3 Leaf Bowls.\n\nWe are just sculpting in this class\, pieces will be left behind and fired in the kiln\, ready in about 10 days.\n\nGlazing is NOT included in the price. You can come back after your piece is fired to glaze it for $10 or paint it with acrylic for $7.
X-ALT-DESC;FMTTYPE=text/html:<p style="text-align:initial">This is a super fun\, easy clay class! No experience necessary.<br />\n<span style="text-align:initial">Bring a friend\, bring a family member bring your kids and come have a relaxing evening!</span><br />\n<span style="text-align:initial">All materials and tools will be provided.</span><br />\n<span style="text-align:initial">Ages 6+ welcome with a participating adult.</span><br />\n<span style="text-align:initial">Age 13+ can be dropped off.&nbsp\;</span><br />\n<span style="text-align:initial">Everyone needs their own ticket.</span><br />\n<span style="text-align:initial">Each person will make 3 Leaf Bowls.</span><br />\n<span style="text-align:initial">We are just sculpting in this class\, pieces will be left behind and fired in the kiln\, ready in about 10 days.</span><br />\n<span style="text-align:initial">Glazing is NOT included in the price. You can come back after your piece is fired to glaze it for $10 or paint it with acrylic for $7.</span></p>\n
LOCATION:HelloHandmade
UID:e.820.47026
SEQUENCE:3
DTSTAMP:20260423T121447Z
URL:https://business.carsonvalleynv.org/events/details/family-clay-play-3-leaf-bowls-47026
END:VEVENT

END:VCALENDAR
